BEGIN:VCALENDAR
VERSION:2.0
CALSCALE:GREGORIAN
PRODID:adamgibbons/ics
METHOD:PUBLISH
X-PUBLISHED-TTL:PT1H
BEGIN:VEVENT
UID:1876@meet.harmreduction.works
SUMMARY:[Harm Reduction Works] Maine Access Points' Monthly Meeting
DTSTAMP:20260419T150009Z
DTSTART:20260521T180000Z
DTEND:20260521T190000Z
DESCRIPTION:We offer access to this meeting either in person @ 218 Penobsco
	t St. Rumford\nMaine and online on Zoom.
URL:https://meet.harmreduction.works/event/maine-access-points-monthly-meet
	ing-15
GEO:44.5494663;-70.5515231
LOCATION:Maine access points - 218 Penobscot St\, Rumford\, ME 04276
STATUS:CONFIRMED
CATEGORIES:hrw,in-person,online,open
X-ALT-DESC;FMTTYPE=text/html:<p>We offer access to this meeting either in p
	erson @ 218 Penobscot St. Rumford Maine and online on Zoom. </p>
BEGIN:VALARM
ACTION:DISPLAY
DESCRIPTION:Maine Access Points' Monthly Meeting
TRIGGER:-PT1H
END:VALARM
END:VEVENT
END:VCALENDAR
