BEGIN:VCALENDAR
VERSION:2.0
CALSCALE:GREGORIAN
PRODID:adamgibbons/ics
METHOD:PUBLISH
X-PUBLISHED-TTL:PT1H
BEGIN:VEVENT
UID:120@meet.harmreduction.works
SUMMARY:[Harm Reduction Works] Samadhi - Hosted Meeting
DTSTAMP:20260422T213229Z
DTSTART:20240308T230000Z
DTEND:20240309T000000Z
DESCRIPTION:Attend in person or online [https://go.harmreduction.works/sama
	dhi]
URL:https://meet.harmreduction.works/event/samadhi-hosted-meeting-8
GEO:41.949283300000005;-74.02126943432289
LOCATION:Samadhi - 150 Sawkill\, Kingston\, NY 12401
STATUS:CONFIRMED
CATEGORIES:open,online,in-person,hrw
X-ALT-DESC;FMTTYPE=text/html:<p>Attend in person or <a href="https://go.har
	mreduction.works/samadhi" target="_blank">online</a></p>
END:VEVENT
BEGIN:VEVENT
UID:106@meet.harmreduction.works
SUMMARY:[Harm Reduction Works] Samadhi - Hosted Meeting
DTSTAMP:20260422T213229Z
DTSTART:20240301T230000Z
DTEND:20240302T000000Z
DESCRIPTION:Attend in person or online [https://go.harmreduction.works/sama
	dhi]
URL:https://meet.harmreduction.works/event/samadhi-hosted-meeting-7
GEO:41.949283300000005;-74.02126943432289
LOCATION:Samadhi - 150 Sawkill\, Kingston\, NY 12401
STATUS:CONFIRMED
CATEGORIES:open,hrw,in-person,online
X-ALT-DESC;FMTTYPE=text/html:<p>Attend in person or <a href="https://go.har
	mreduction.works/samadhi" target="_blank">online</a></p>
END:VEVENT
BEGIN:VEVENT
UID:93@meet.harmreduction.works
SUMMARY:[Harm Reduction Works] Samadhi - Hosted Meeting
DTSTAMP:20260422T213229Z
DTSTART:20240223T230000Z
DTEND:20240224T000000Z
DESCRIPTION:Attend in person or online [https://go.harmreduction.works/sama
	dhi]
URL:https://meet.harmreduction.works/event/samadhi-hosted-meeting-6
GEO:41.949283300000005;-74.02126943432289
LOCATION:Samadhi - 150 Sawkill\, Kingston\, NY 12401
STATUS:CONFIRMED
CATEGORIES:hrw,in-person,online,open
X-ALT-DESC;FMTTYPE=text/html:<p>Attend in person or <a href="https://go.har
	mreduction.works/samadhi" target="_blank">online</a></p>
END:VEVENT
BEGIN:VEVENT
UID:79@meet.harmreduction.works
SUMMARY:[Harm Reduction Works] Samadhi - Hosted Meeting
DTSTAMP:20260422T213229Z
DTSTART:20240216T230000Z
DTEND:20240217T000000Z
DESCRIPTION:Attend in person or online [https://go.harmreduction.works/sama
	dhi]
URL:https://meet.harmreduction.works/event/samadhi-hosted-meeting-5
GEO:41.949283300000005;-74.02126943432289
LOCATION:Samadhi - 150 Sawkill\, Kingston\, NY 12401
STATUS:CONFIRMED
CATEGORIES:hrw,in-person,online,open
X-ALT-DESC;FMTTYPE=text/html:<p>Attend in person or <a href="https://go.har
	mreduction.works/samadhi" target="_blank">online</a></p>
END:VEVENT
BEGIN:VEVENT
UID:66@meet.harmreduction.works
SUMMARY:[Harm Reduction Works] Samadhi - Hosted Meeting
DTSTAMP:20260422T213229Z
DTSTART:20240209T230000Z
DTEND:20240210T000000Z
DESCRIPTION:Attend in person or online [https://go.harmreduction.works/sama
	dhi]
URL:https://meet.harmreduction.works/event/samadhi-hosted-meeting-4
GEO:41.949283300000005;-74.02126943432289
LOCATION:Samadhi - 150 Sawkill\, Kingston\, NY 12401
STATUS:CONFIRMED
CATEGORIES:open,hrw,in-person,online
X-ALT-DESC;FMTTYPE=text/html:<p>Attend in person or <a href="https://go.har
	mreduction.works/samadhi" target="_blank">online</a></p>
END:VEVENT
BEGIN:VEVENT
UID:48@meet.harmreduction.works
SUMMARY:[Harm Reduction Works] Samadhi - Hosted Meeting
DTSTAMP:20260422T213229Z
DTSTART:20240202T230000Z
DTEND:20240203T000000Z
DESCRIPTION:Attend in person or online [https://go.harmreduction.works/sama
	dhi]
URL:https://meet.harmreduction.works/event/samadhi-hosted-meeting-3
GEO:41.949283300000005;-74.02126943432289
LOCATION:Samadhi - 150 Sawkill\, Kingston\, NY 12401
STATUS:CONFIRMED
CATEGORIES:hrw,in-person,online,open
X-ALT-DESC;FMTTYPE=text/html:<p>Attend in person or <a href="https://go.har
	mreduction.works/samadhi" target="_blank">online</a></p>
END:VEVENT
BEGIN:VEVENT
UID:38@meet.harmreduction.works
SUMMARY:[Harm Reduction Works] Samadhi - Hosted Meeting
DTSTAMP:20260422T213229Z
DTSTART:20240126T230000Z
DTEND:20240127T000000Z
DESCRIPTION:Attend in person or online [https://go.harmreduction.works/sama
	dhi]
URL:https://meet.harmreduction.works/event/samadhi-hosted-meeting-2
GEO:41.949283300000005;-74.02126943432289
LOCATION:Samadhi - 150 Sawkill\, Kingston\, NY 12401
STATUS:CONFIRMED
CATEGORIES:open,hrw,in-person,online
X-ALT-DESC;FMTTYPE=text/html:<p>Attend in person or <a href="https://go.har
	mreduction.works/samadhi" target="_blank">online</a></p>
END:VEVENT
BEGIN:VEVENT
UID:17@meet.harmreduction.works
SUMMARY:[Harm Reduction Works] Samadhi - Hosted Meeting (Online & in Kingst
	on\, NY)
DTSTAMP:20260422T213229Z
DTSTART:20240119T230000Z
DTEND:20240120T000000Z
DESCRIPTION:Attend in person or online [https://go.harmreduction.works/sama
	dhi]
URL:https://meet.harmreduction.works/event/samadhi-hosted-meeting-1
GEO:41.949283300000005;-74.02126943432289
LOCATION:Samadhi - 150 Sawkill\, Kingston\, NY 12401
STATUS:CONFIRMED
CATEGORIES:hrw,open,online,in-person
X-ALT-DESC;FMTTYPE=text/html:<p>Attend in person or <a target="_blank" href
	="https://go.harmreduction.works/samadhi">online</a></p>
END:VEVENT
END:VCALENDAR
